BEGIN:VCALENDAR
VERSION:2.0
PRODID:-//Blue Bay Curaçao Golf &amp; Beach Resort - ECPv6.15.18//NONSGML v1.0//EN
CALSCALE:GREGORIAN
METHOD:PUBLISH
X-WR-CALNAME:Blue Bay Curaçao Golf &amp; Beach Resort
X-ORIGINAL-URL:https://bluebay-curacao.com
X-WR-CALDESC:Events for Blue Bay Curaçao Golf &amp; Beach Resort
REFRESH-INTERVAL;VALUE=DURATION:PT1H
X-Robots-Tag:noindex
X-PUBLISHED-TTL:PT1H
BEGIN:VTIMEZONE
TZID:UTC
BEGIN:STANDARD
TZOFFSETFROM:+0000
TZOFFSETTO:+0000
TZNAME:UTC
DTSTART:20250101T000000
END:STANDARD
END:VTIMEZONE
BEGIN:VEVENT
DTSTART;TZID=UTC:20260425T130000
DTEND;TZID=UTC:20260425T130000
DTSTAMP:20260425T162324
CREATED:20260420T132855Z
LAST-MODIFIED:20260420T142022Z
UID:10000228-1777122000-1777122000@bluebay-curacao.com
SUMMARY:25 Years Celebration Tournament
DESCRIPTION:On Saturday\, April 25th\, 2026\, we will celebrate a very special milestone in the history of Blue Bay Golf Course\, our 25-year anniversary. \n\n\n\nThis is more than a tournament. It is a celebration of 25 years of memories\, growth\, and community at Blue Bay Golf\, and we would be honored to share this moment with you on the course. \n\n\n\nWe invite you to join us for a festive and memorable afternoon starting at 13:00 with a shotgun start. \n\n\n\nWhat to expect \n\n\n\n\nA special 25-year anniversary tournament\n\n\n\nA fun and social four-man scramble format\n\n\n\nA relaxed and festive atmosphere throughout the day\n\n\n\nCelebration moments after the round\n\n\n\n\nTournament details \n\n\n\n\nDate: Saturday\, April 25th\, 2026\n\n\n\nLocation: Blue Bay Golf Course\n\n\n\nStart: 13:00 shotgun start\n\n\n\nFormat: Four-man scramble\n\n\n\n\nParticipation fee (incl. cart & food) \n\n\n\n\nMembers: XCG 195\n\n\n\nNon-members: XCG 295\n\n\n\n\nThis day is about celebrating 25 years of Blue Bay Golf\, our past\, present\, and future. A true milestone event we hope you will be part of. \n\n\n\nWe look forward to celebrating together. \n\n\n\nTime: Shotgun start 1:00 pmPrizes: Individual winner & team winnerNearyLongest DrivesLocation: Blue Bay Golf CourseTees: Ladies: RedMen 18.1 – 36: WhiteMen 0 – 18: BlueFormat: Four-man ScrambleEntry Fee:Members: XCG 195\,- Non Members: XCG 295\,-\n\n\n\nPlease register for this event by clicking here.
URL:https://bluebay-curacao.com/events-calendar/25-years-celebration-tournament/
LOCATION:Blue Bay Golf Course\, Blue Bay Golf Course\, St. Michiel
CATEGORIES:Golf Tournaments
ATTACH;FMTTYPE=image/png:https://bluebay-curacao.com/wp-content/uploads/2026/04/BB-golf-25-years_TV-1.png
GEO:12.138813913607;-68.982919242085
X-APPLE-STRUCTURED-LOCATION;VALUE=URI;X-ADDRESS=Blue Bay Golf Course Blue Bay Golf Course St. Michiel;X-APPLE-RADIUS=500;X-TITLE=Blue Bay Golf Course:geo:-68.982919242085,12.138813913607
END:VEVENT
END:VCALENDAR